BEGIN:VCALENDAR
VERSION:2.0
PRODID:-//wp-events-plugin.com//7.2.3.1//EN
BEGIN:VEVENT
UID:52@zefog.de
DTSTART;TZID=Europe/Berlin:20240226T190000
DTEND;TZID=Europe/Berlin:20240226T203000
DTSTAMP:20230928T072430Z
URL:https://zefog.de/events/web-talk-was-macht-unser-gehirn-gluecklich-und
 -welchen-einfluss-hat-unser-geschlecht-online/
SUMMARY:Web-Talk: Was macht unser Gehirn glücklich - und welchen Einfluss 
 hat unser Geschlecht (Online)
DESCRIPTION:WebTalk-Reihe zum Thema "Frauen und Gesundheit": Vortragsabende
  mit renommierten Referentinnen und spannenden Aspekten zu aktuellen Frage
 n
ATTACH;FMTTYPE=image/jpeg:https://zefog.de/wp-content/uploads/2023/08/isto
 ck-1461189339-sdi-productions-web.jpg
CATEGORIES:Ethik konkret
LOCATION:Digitaler Tagungsraum in Microsoft Teams\, (online)\, Ludwigshafen
 \, Rheinland-Pfalz\, 67059\, Deutschland
X-APPLE-STRUCTURED-LOCATION;VALUE=URI;X-ADDRESS=(online)\, Ludwigshafen\, R
 heinland-Pfalz\, 67059\, Deutschland;X-APPLE-RADIUS=100;X-TITLE=Digitaler 
 Tagungsraum in Microsoft Teams:geo:0,0
END:VEVENT
BEGIN:VTIMEZONE
TZID:Europe/Berlin
X-LIC-LOCATION:Europe/Berlin
BEGIN:STANDARD
DTSTART:20231029T020000
TZOFFSETFROM:+0200
TZOFFSETTO:+0100
TZNAME:CET
END:STANDARD
END:VTIMEZONE
END:VCALENDAR